BEGIN:VCALENDAR
VERSION:2.0
PRODID:-//ABC Wilton - ECPv6.15.20//NONSGML v1.0//EN
CALSCALE:GREGORIAN
METHOD:PUBLISH
X-ORIGINAL-URL:https://abcwilton.org
X-WR-CALDESC:Events for ABC Wilton
REFRESH-INTERVAL;VALUE=DURATION:PT1H
X-Robots-Tag:noindex
X-PUBLISHED-TTL:PT1H
BEGIN:VTIMEZONE
TZID:America/New_York
BEGIN:DAYLIGHT
TZOFFSETFROM:-0500
TZOFFSETTO:-0400
TZNAME:EDT
DTSTART:20250309T070000
END:DAYLIGHT
BEGIN:STANDARD
TZOFFSETFROM:-0400
TZOFFSETTO:-0500
TZNAME:EST
DTSTART:20251102T060000
END:STANDARD
BEGIN:DAYLIGHT
TZOFFSETFROM:-0500
TZOFFSETTO:-0400
TZNAME:EDT
DTSTART:20260308T070000
END:DAYLIGHT
BEGIN:STANDARD
TZOFFSETFROM:-0400
TZOFFSETTO:-0500
TZNAME:EST
DTSTART:20261101T060000
END:STANDARD
BEGIN:DAYLIGHT
TZOFFSETFROM:-0500
TZOFFSETTO:-0400
TZNAME:EDT
DTSTART:20270314T070000
END:DAYLIGHT
BEGIN:STANDARD
TZOFFSETFROM:-0400
TZOFFSETTO:-0500
TZNAME:EST
DTSTART:20271107T060000
END:STANDARD
END:VTIMEZONE
BEGIN:VEVENT
DTSTART;TZID=America/New_York:20260311T183000
DTEND;TZID=America/New_York:20260311T200000
DTSTAMP:20260420T091439
CREATED:20260209T171900Z
LAST-MODIFIED:20260209T203321Z
UID:140329-1773253800-1773259200@abcwilton.org
SUMMARY:Kindness Counts
DESCRIPTION:Sponsored by A Better Chance of Wilton:\n\n\nKindness Counts: an evening of connection and companionship will center on the power of intentional kindness. On March 11\, 2026\, from 6:30–8:00 PM at WEPCO. \nCommunity members of all ages are invited to gather\, share a potluck dinner of pasta and salad\, and take part in meaningful conversation and reflection. \nFeatured presenters include Cody Foss of Kind-Works Inc. and Chaquayla Jones of Yale New Haven Hospital\, this free event offers a warm\, welcoming space to come together\, be inspired\, and celebrate the simple acts that make a big difference. All are welcome. \nIf you would like to bring a dessert to share (optional)\, please indicate below what you will be bringing here. Please label all desserts. \nPlease contact jfowlerabcwilton@gmail.com with any questions or for more information.
URL:https://abcwilton.org/https-abcwilton-org-event-single-post-name/kindness-counts/
LOCATION:WEPCO\, 48 New Canaan Road\, Wilton\, CT\, 06897\, United States
ORGANIZER;CN="Julie Fowler":MAILTO:jfowlerabcwilton@gmail.com
END:VEVENT
BEGIN:VEVENT
DTSTART;TZID=America/New_York:20260516T183000
DTEND;TZID=America/New_York:20260516T220000
DTSTAMP:20260420T091439
CREATED:20260206T022313Z
LAST-MODIFIED:20260408T151159Z
UID:140301-1778956200-1778968800@abcwilton.org
SUMMARY:A Better Chance of Wilton's 30th Anniversary Celebration
DESCRIPTION:Join us for an evening of cocktails\, dinner\, and music as we celebrate 30 years of A Better Chance of Wilton and the life-changing impact of our program. The celebration will be held at Shore & Country Club on May 16th from 6:30–10:00 PM; tickets are $250 per person. We need your support to continue this life-changing program!  \nFor those interested in learning more about sponsorship opportunities\, please view our sponsorship kit here. To purchase tickets or to sponsor today\, scroll below to get started. Our program is fully funded by the generosity of private donations so every dollar makes a difference.
URL:https://abcwilton.org/https-abcwilton-org-event-single-post-name/30th/
LOCATION:Shore & Country\, 220 Gregory Boulevard\, Norwalk\, 06897
ORGANIZER;CN="Shannon Benedek":MAILTO:shannonbenedek@gmail.com
END:VEVENT
END:VCALENDAR